BEGIN:VCALENDAR
VERSION:2.0
PRODID:-//West Chicago Voice : Local News - ECPv6.15.11//NONSGML v1.0//EN
CALSCALE:GREGORIAN
METHOD:PUBLISH
X-ORIGINAL-URL:https://westchicagovoice.com
X-WR-CALDESC:Events for West Chicago Voice : Local News
REFRESH-INTERVAL;VALUE=DURATION:PT1H
X-Robots-Tag:noindex
X-PUBLISHED-TTL:PT1H
BEGIN:VTIMEZONE
TZID:America/New_York
BEGIN:DAYLIGHT
TZOFFSETFROM:-0500
TZOFFSETTO:-0400
TZNAME:EDT
DTSTART:20220313T070000
END:DAYLIGHT
BEGIN:STANDARD
TZOFFSETFROM:-0400
TZOFFSETTO:-0500
TZNAME:EST
DTSTART:20221106T060000
END:STANDARD
BEGIN:DAYLIGHT
TZOFFSETFROM:-0500
TZOFFSETTO:-0400
TZNAME:EDT
DTSTART:20230312T070000
END:DAYLIGHT
BEGIN:STANDARD
TZOFFSETFROM:-0400
TZOFFSETTO:-0500
TZNAME:EST
DTSTART:20231105T060000
END:STANDARD
BEGIN:DAYLIGHT
TZOFFSETFROM:-0500
TZOFFSETTO:-0400
TZNAME:EDT
DTSTART:20240310T070000
END:DAYLIGHT
BEGIN:STANDARD
TZOFFSETFROM:-0400
TZOFFSETTO:-0500
TZNAME:EST
DTSTART:20241103T060000
END:STANDARD
END:VTIMEZONE
BEGIN:VEVENT
DTSTART;TZID=America/New_York:20230822T180000
DTEND;TZID=America/New_York:20230822T200000
DTSTAMP:20260422T051250
CREATED:20230819T023531Z
LAST-MODIFIED:20230819T023531Z
UID:175-1692727200-1692734400@westchicagovoice.com
SUMMARY:West Chicago Historical Preservation Commission Meeting
DESCRIPTION:Date: Tuesday\, August 22\, 2023\n \nTime: 6:00 pm – 8:00 pm \nLocation: West Chicago City Hall – 475 Main Street\, West Chicago\, IL \n\n\n\nHistorical Preservation Commission meetings are held at West Chicago City Hall\, 475 Main Street\, West Chicago. Agendas are posted on the City’s website once available. \nVisit the City’s website to view the upcoming meeting’s agenda.
URL:https://westchicagovoice.com/event/west-chicago-historical-preservation-commission-meeting/
LOCATION:West Chicago City Hall\, 475 Main Street\, West Chicago\, IL\, 60185\, United States
CATEGORIES:City Sponsored Meetings
ATTACH;FMTTYPE=image/jpeg:https://westchicagovoice.com/wp-content/uploads/2023/08/cityofwegoLOGO.jpg
END:VEVENT
BEGIN:VEVENT
DTSTART;TZID=America/New_York:20230821T190000
DTEND;TZID=America/New_York:20230821T200000
DTSTAMP:20260422T051250
CREATED:20230819T015524Z
LAST-MODIFIED:20230819T015733Z
UID:161-1692644400-1692648000@westchicagovoice.com
SUMMARY:West Chicago City Council Meeting
DESCRIPTION:City Council meetings are held at West Chicago City Hall\, 475 Main Street\, West Chicago\, IL 60185. Agendas are posted on the City’s website once available. \nDate: Monday\, August 21\, 2023 \nTime: 7:00 p.m. \nLocation: West Chicago City Hall – 475 Main Street – West Chicago \nVisit the City’s website to view the upcoming meeting’s agenda.
URL:https://westchicagovoice.com/event/west-chicago-city-council-meeting/
LOCATION:West Chicago City Hall\, 475 Main Street\, West Chicago\, IL\, 60185\, United States
CATEGORIES:City Sponsored Meetings
ATTACH;FMTTYPE=image/jpeg:https://westchicagovoice.com/wp-content/uploads/2023/08/cityofwegoLOGO.jpg
END:VEVENT
BEGIN:VEVENT
DTSTART;TZID=America/New_York:20230821T181500
DTEND;TZID=America/New_York:20230821T190000
DTSTAMP:20260422T051250
CREATED:20230819T014935Z
LAST-MODIFIED:20230819T015611Z
UID:158-1692641700-1692644400@westchicagovoice.com
SUMMARY:Public Affairs Committee Meeting
DESCRIPTION:Public Affairs Committee meetings are held at West Chicago City Hall\, 475 Main Street\, West Chicago\, IL 60185. Agendas are posted on the City’s website once available. \nDate: Monday\, August 21\, 2023 \nTime: 6:15 p.m. – 7:00 p.m. \nLocation: West Chicago City Hall – 475 Main St. – West Chicago \nVisit the City’s website to view the upcoming meeting’s agenda.
URL:https://westchicagovoice.com/event/public-affairs-committee-meeting/
LOCATION:West Chicago City Hall\, 475 Main Street\, West Chicago\, IL\, 60185\, United States
CATEGORIES:City Sponsored Meetings
ATTACH;FMTTYPE=image/jpeg:https://westchicagovoice.com/wp-content/uploads/2023/08/cityofwegoLOGO.jpg
END:VEVENT
END:VCALENDAR