BEGIN:VCALENDAR
VERSION:2.0
PRODID:-//West Chicago Voice : Local News - ECPv6.15.11//NONSGML v1.0//EN
CALSCALE:GREGORIAN
METHOD:PUBLISH
X-WR-CALNAME:West Chicago Voice : Local News
X-ORIGINAL-URL:https://westchicagovoice.com
X-WR-CALDESC:Events for West Chicago Voice : Local News
REFRESH-INTERVAL;VALUE=DURATION:PT1H
X-Robots-Tag:noindex
X-PUBLISHED-TTL:PT1H
BEGIN:VTIMEZONE
TZID:America/New_York
BEGIN:DAYLIGHT
TZOFFSETFROM:-0500
TZOFFSETTO:-0400
TZNAME:EDT
DTSTART:20220313T070000
END:DAYLIGHT
BEGIN:STANDARD
TZOFFSETFROM:-0400
TZOFFSETTO:-0500
TZNAME:EST
DTSTART:20221106T060000
END:STANDARD
BEGIN:DAYLIGHT
TZOFFSETFROM:-0500
TZOFFSETTO:-0400
TZNAME:EDT
DTSTART:20230312T070000
END:DAYLIGHT
BEGIN:STANDARD
TZOFFSETFROM:-0400
TZOFFSETTO:-0500
TZNAME:EST
DTSTART:20231105T060000
END:STANDARD
BEGIN:DAYLIGHT
TZOFFSETFROM:-0500
TZOFFSETTO:-0400
TZNAME:EDT
DTSTART:20240310T070000
END:DAYLIGHT
BEGIN:STANDARD
TZOFFSETFROM:-0400
TZOFFSETTO:-0500
TZNAME:EST
DTSTART:20241103T060000
END:STANDARD
END:VTIMEZONE
BEGIN:VEVENT
DTSTART;TZID=America/New_York:20231006T183000
DTEND;TZID=America/New_York:20231006T201500
DTSTAMP:20260422T132939
CREATED:20230822T235601Z
LAST-MODIFIED:20230823T000617Z
UID:634-1696617000-1696623300@westchicagovoice.com
SUMMARY:Tales Tombstones Tell
DESCRIPTION:The 34th annual Tales Tombstones Tell is being hosted by the West Chicago City Museum on Friday\, October 6th at 6:00 p.m. This local history event will be held at Oakwood Cemetery\, 755 E. York St.\, West Chicago. \nFor more information see this article on The West Chicago Voice\, news for locals by locals. 
URL:https://westchicagovoice.com/event/tales-tombstones-tell/
LOCATION:Oakwood Cemetery\, 559 E. York Street\, West Chicago\, 60185\, United States
CATEGORIES:Entertainment,Local History
ATTACH;FMTTYPE=image/jpeg:https://westchicagovoice.com/wp-content/uploads/2023/08/1C629D56-7544-4288-9A6F-8967DDED0FEA.jpeg
ORGANIZER;CN="West Chicago City Museum":MAILTO:museum@westchicago.org
END:VEVENT
BEGIN:VEVENT
DTSTART;TZID=America/New_York:20230819T150000
DTEND;TZID=America/New_York:20230819T200000
DTSTAMP:20260422T132939
CREATED:20230818T213945Z
LAST-MODIFIED:20230818T214205Z
UID:149-1692457200-1692475200@westchicagovoice.com
SUMMARY:Taco + Art Fest
DESCRIPTION:Join the West Chicago Park District at Reed-Keppler Park for its annual Taco & Art Fest\, which features live music\, entertainment\, art\, children’s activities and Taco Wars\, where local food vendors will compete for the title of Best Taco. \nDate: Saturday\, August 19\, 2023 \nTime: 3:00 p.m. – 8:00 p.m. \nLocation: Reed-Keppler Park \, 129 W. National St.\, West Chicago\, Illinois. \nVisit the West Chicago Park District’s website for more information.
URL:https://westchicagovoice.com/event/taco-art-fest/
LOCATION:Reed-Keppler Park\, 129 West National Street\, West Chicago\, IL\, 60185\, United States
CATEGORIES:Entertainment
ATTACH;FMTTYPE=image/jpeg:https://westchicagovoice.com/wp-content/uploads/2023/08/tacoandartfest.jpg
END:VEVENT
END:VCALENDAR